BEGIN:VCALENDAR
VERSION:2.0
PRODID:-//100 Families WA - ECPv4.7.0.1//NONSGML v1.0//EN
CALSCALE:GREGORIAN
METHOD:PUBLISH
X-WR-CALNAME:100 Families WA
X-ORIGINAL-URL:https://100fwa.dropinsolutions.org.au
X-WR-CALDESC:Events for 100 Families WA
BEGIN:VEVENT
DTSTART;TZID=UTC+0:20181204T080000
DTEND;TZID=UTC+0:20181204T170000
DTSTAMP:20210227T011618
CREATED:20181204T080846Z
LAST-MODIFIED:20181204T080846Z
UID:1018-1543910400-1543942800@100fwa.dropinsolutions.org.au
SUMMARY:Celebration of Success
DESCRIPTION:Hi\, \nWe are having a sundowner for celebration of the success of the 100 Families WA Project. \nPlease RSVP for the information here: \nlink \n
URL:https://100fwa.dropinsolutions.org.au/event/celebration-of-success/
END:VEVENT
END:VCALENDAR